BEGIN:VCALENDAR
VERSION:2.0
PRODID:https://www.kufer.de/kuferweb / DE
METHOD:PUBLISH
CALSCALE:GREGORIAN
X-WR-TIMEZONE:Europe/Berlin
BEGIN:VTIMEZONE
TZID:Europe/Berlin
X-LIC-LOCATION:Europe/Berlin
BEGIN:DAYLIGHT
TZOFFSETFROM:+0100
TZOFFSETTO:+0200
TZNAME:CEST
DTSTART:19700329T020000
RRULE:FREQ=YEARLY;INTERVAL=1;BYDAY=-1SU;BYMONTH=3
END:DAYLIGHT
BEGIN:STANDARD
TZOFFSETFROM:+0200
TZOFFSETTO:+0100
TZNAME:CET
DTSTART:19701025T030000
RRULE:FREQ=YEARLY;INTERVAL=1;BYDAY=-1SU;BYMONTH=10
END:STANDARD
END:VTIMEZONE
BEGIN:VEVENT
DTSTAMP:20260421T174307
DTSTART;TZID=Europe/Berlin:20261012T090000
DTEND;TZID=Europe/Berlin:20261012T160000
UID:XI82180-20261012T090000@VHSMAINZ
SUMMARY:„Life balances work“ oder seelische Gesundheit wirkt: zufrieden sein mit sich selbst – auch bei der Arbeit (BFG) (XI82180) 
LOCATION:Innenstadt; vhs-Haus; C; 3.07; Kunst, Karmeliterplatz 1, 55116 Mainz
END:VEVENT
BEGIN:VEVENT
DTSTAMP:20260421T174307
DTSTART;TZID=Europe/Berlin:20261013T090000
DTEND;TZID=Europe/Berlin:20261013T160000
UID:XI82180-20261013T090000@VHSMAINZ
SUMMARY:„Life balances work“ oder seelische Gesundheit wirkt: zufrieden sein mit sich selbst – auch bei der Arbeit (BFG) (XI82180) 
LOCATION:Innenstadt; vhs-Haus; C; 3.07; Kunst, Karmeliterplatz 1, 55116 Mainz
END:VEVENT
BEGIN:VEVENT
DTSTAMP:20260421T174307
DTSTART;TZID=Europe/Berlin:20261014T090000
DTEND;TZID=Europe/Berlin:20261014T160000
UID:XI82180-20261014T090000@VHSMAINZ
SUMMARY:„Life balances work“ oder seelische Gesundheit wirkt: zufrieden sein mit sich selbst – auch bei der Arbeit (BFG) (XI82180) 
LOCATION:Innenstadt; vhs-Haus; C; 3.07; Kunst, Karmeliterplatz 1, 55116 Mainz
END:VEVENT
BEGIN:VEVENT
DTSTAMP:20260421T174307
DTSTART;TZID=Europe/Berlin:20261015T090000
DTEND;TZID=Europe/Berlin:20261015T160000
UID:XI82180-20261015T090000@VHSMAINZ
SUMMARY:„Life balances work“ oder seelische Gesundheit wirkt: zufrieden sein mit sich selbst – auch bei der Arbeit (BFG) (XI82180) 
LOCATION:Innenstadt; vhs-Haus; C; 3.07; Kunst, Karmeliterplatz 1, 55116 Mainz
END:VEVENT
BEGIN:VEVENT
DTSTAMP:20260421T174307
DTSTART;TZID=Europe/Berlin:20261016T090000
DTEND;TZID=Europe/Berlin:20261016T160000
UID:XI82180-20261016T090000@VHSMAINZ
SUMMARY:„Life balances work“ oder seelische Gesundheit wirkt: zufrieden sein mit sich selbst – auch bei der Arbeit (BFG) (XI82180) 
LOCATION:Innenstadt; vhs-Haus; C; 3.07; Kunst, Karmeliterplatz 1, 55116 Mainz
END:VEVENT
END:VCALENDAR