BEGIN:VCALENDAR
VERSION:2.0
PRODID:https://www.kufer.de/kuferweb / DE
METHOD:PUBLISH
CALSCALE:GREGORIAN
X-WR-TIMEZONE:Europe/Berlin
BEGIN:VTIMEZONE
TZID:Europe/Berlin
X-LIC-LOCATION:Europe/Berlin
BEGIN:DAYLIGHT
TZOFFSETFROM:+0100
TZOFFSETTO:+0200
TZNAME:CEST
DTSTART:19700329T020000
RRULE:FREQ=YEARLY;INTERVAL=1;BYDAY=-1SU;BYMONTH=3
END:DAYLIGHT
BEGIN:STANDARD
TZOFFSETFROM:+0200
TZOFFSETTO:+0100
TZNAME:CET
DTSTART:19701025T030000
RRULE:FREQ=YEARLY;INTERVAL=1;BYDAY=-1SU;BYMONTH=10
END:STANDARD
END:VTIMEZONE
BEGIN:VEVENT
DTSTAMP:20260423T025026
DTSTART;TZID=Europe/Berlin:20270614T090000
DTEND;TZID=Europe/Berlin:20270614T160000
UID:XI81188-20270614T090000@VHSMAINZ
SUMMARY:MBSR intensiv – Stressbewältigung durch Achtsamkeit (BFG) (XI81188) 
LOCATION:Innenstadt; vhs-Haus; C; 3.07; Kunst, Karmeliterplatz 1, 55116 Mainz
END:VEVENT
BEGIN:VEVENT
DTSTAMP:20260423T025026
DTSTART;TZID=Europe/Berlin:20270615T090000
DTEND;TZID=Europe/Berlin:20270615T160000
UID:XI81188-20270615T090000@VHSMAINZ
SUMMARY:MBSR intensiv – Stressbewältigung durch Achtsamkeit (BFG) (XI81188) 
LOCATION:Innenstadt; vhs-Haus; C; 3.07; Kunst, Karmeliterplatz 1, 55116 Mainz
END:VEVENT
BEGIN:VEVENT
DTSTAMP:20260423T025026
DTSTART;TZID=Europe/Berlin:20270616T090000
DTEND;TZID=Europe/Berlin:20270616T160000
UID:XI81188-20270616T090000@VHSMAINZ
SUMMARY:MBSR intensiv – Stressbewältigung durch Achtsamkeit (BFG) (XI81188) 
LOCATION:Innenstadt; vhs-Haus; C; 3.07; Kunst, Karmeliterplatz 1, 55116 Mainz
END:VEVENT
BEGIN:VEVENT
DTSTAMP:20260423T025026
DTSTART;TZID=Europe/Berlin:20270617T090000
DTEND;TZID=Europe/Berlin:20270617T160000
UID:XI81188-20270617T090000@VHSMAINZ
SUMMARY:MBSR intensiv – Stressbewältigung durch Achtsamkeit (BFG) (XI81188) 
LOCATION:Innenstadt; vhs-Haus; C; 3.07; Kunst, Karmeliterplatz 1, 55116 Mainz
END:VEVENT
BEGIN:VEVENT
DTSTAMP:20260423T025026
DTSTART;TZID=Europe/Berlin:20270618T090000
DTEND;TZID=Europe/Berlin:20270618T160000
UID:XI81188-20270618T090000@VHSMAINZ
SUMMARY:MBSR intensiv – Stressbewältigung durch Achtsamkeit (BFG) (XI81188) 
LOCATION:Innenstadt; vhs-Haus; C; 3.07; Kunst, Karmeliterplatz 1, 55116 Mainz
END:VEVENT
END:VCALENDAR