BEGIN:VCALENDAR
VERSION:2.0
PRODID:https://www.kufer.de/kuferweb / DE
METHOD:PUBLISH
CALSCALE:GREGORIAN
X-WR-TIMEZONE:Europe/Berlin
BEGIN:VTIMEZONE
TZID:Europe/Berlin
X-LIC-LOCATION:Europe/Berlin
BEGIN:DAYLIGHT
TZOFFSETFROM:+0100
TZOFFSETTO:+0200
TZNAME:CEST
DTSTART:19700329T020000
RRULE:FREQ=YEARLY;INTERVAL=1;BYDAY=-1SU;BYMONTH=3
END:DAYLIGHT
BEGIN:STANDARD
TZOFFSETFROM:+0200
TZOFFSETTO:+0100
TZNAME:CET
DTSTART:19701025T030000
RRULE:FREQ=YEARLY;INTERVAL=1;BYDAY=-1SU;BYMONTH=10
END:STANDARD
END:VTIMEZONE
BEGIN:VEVENT
DTSTAMP:20260423T025036
DTSTART;TZID=Europe/Berlin:20270802T083000
DTEND;TZID=Europe/Berlin:20270802T130000
UID:XI81186-20270802T083000@VHSMAINZ
SUMMARY:Gelassen durch den (Arbeits-)Alltag: Stressbewältigung, Zeitmanagement und Selbstfürsorge für Mütter (BFG) (XI81186) 
LOCATION:Innenstadt; vhs-Haus; C; 3.01, Karmeliterplatz 1, 55116 Mainz
END:VEVENT
BEGIN:VEVENT
DTSTAMP:20260423T025036
DTSTART;TZID=Europe/Berlin:20270803T083000
DTEND;TZID=Europe/Berlin:20270803T130000
UID:XI81186-20270803T083000@VHSMAINZ
SUMMARY:Gelassen durch den (Arbeits-)Alltag: Stressbewältigung, Zeitmanagement und Selbstfürsorge für Mütter (BFG) (XI81186) 
LOCATION:Innenstadt; vhs-Haus; C; 3.01, Karmeliterplatz 1, 55116 Mainz
END:VEVENT
BEGIN:VEVENT
DTSTAMP:20260423T025036
DTSTART;TZID=Europe/Berlin:20270804T083000
DTEND;TZID=Europe/Berlin:20270804T130000
UID:XI81186-20270804T083000@VHSMAINZ
SUMMARY:Gelassen durch den (Arbeits-)Alltag: Stressbewältigung, Zeitmanagement und Selbstfürsorge für Mütter (BFG) (XI81186) 
LOCATION:Innenstadt; vhs-Haus; C; 3.01, Karmeliterplatz 1, 55116 Mainz
END:VEVENT
BEGIN:VEVENT
DTSTAMP:20260423T025036
DTSTART;TZID=Europe/Berlin:20270805T083000
DTEND;TZID=Europe/Berlin:20270805T130000
UID:XI81186-20270805T083000@VHSMAINZ
SUMMARY:Gelassen durch den (Arbeits-)Alltag: Stressbewältigung, Zeitmanagement und Selbstfürsorge für Mütter (BFG) (XI81186) 
LOCATION:Innenstadt; vhs-Haus; C; 3.01, Karmeliterplatz 1, 55116 Mainz
END:VEVENT
BEGIN:VEVENT
DTSTAMP:20260423T025036
DTSTART;TZID=Europe/Berlin:20270806T083000
DTEND;TZID=Europe/Berlin:20270806T130000
UID:XI81186-20270806T083000@VHSMAINZ
SUMMARY:Gelassen durch den (Arbeits-)Alltag: Stressbewältigung, Zeitmanagement und Selbstfürsorge für Mütter (BFG) (XI81186) 
LOCATION:Innenstadt; vhs-Haus; C; 3.01, Karmeliterplatz 1, 55116 Mainz
END:VEVENT
END:VCALENDAR