BEGIN:VCALENDAR
VERSION:2.0
PRODID:https://www.kufer.de/kuferweb / DE
METHOD:PUBLISH
CALSCALE:GREGORIAN
X-WR-TIMEZONE:Europe/Berlin
BEGIN:VTIMEZONE
TZID:Europe/Berlin
X-LIC-LOCATION:Europe/Berlin
BEGIN:DAYLIGHT
TZOFFSETFROM:+0100
TZOFFSETTO:+0200
TZNAME:CEST
DTSTART:19700329T020000
RRULE:FREQ=YEARLY;INTERVAL=1;BYDAY=-1SU;BYMONTH=3
END:DAYLIGHT
BEGIN:STANDARD
TZOFFSETFROM:+0200
TZOFFSETTO:+0100
TZNAME:CET
DTSTART:19701025T030000
RRULE:FREQ=YEARLY;INTERVAL=1;BYDAY=-1SU;BYMONTH=10
END:STANDARD
END:VTIMEZONE
BEGIN:VEVENT
DTSTAMP:20260423T130520
DTSTART;TZID=Europe/Berlin:20270617T083000
DTEND;TZID=Europe/Berlin:20270617T114500
UID:XI52329-20270617T083000@VHSMAINZ
SUMMARY:Allgemeiner Integrationskurs - Modul 4 (XI52329) 
LOCATION:Innenstadt; vhs-Haus; B; 3.04, Karmeliterplatz 1, 55116 Mainz
END:VEVENT
BEGIN:VEVENT
DTSTAMP:20260423T130520
DTSTART;TZID=Europe/Berlin:20270618T083000
DTEND;TZID=Europe/Berlin:20270618T114500
UID:XI52329-20270618T083000@VHSMAINZ
SUMMARY:Allgemeiner Integrationskurs - Modul 4 (XI52329) 
LOCATION:Innenstadt; vhs-Haus; B; 3.04, Karmeliterplatz 1, 55116 Mainz
END:VEVENT
BEGIN:VEVENT
DTSTAMP:20260423T130520
DTSTART;TZID=Europe/Berlin:20270621T083000
DTEND;TZID=Europe/Berlin:20270621T114500
UID:XI52329-20270621T083000@VHSMAINZ
SUMMARY:Allgemeiner Integrationskurs - Modul 4 (XI52329) 
LOCATION:Innenstadt; vhs-Haus; B; 3.04, Karmeliterplatz 1, 55116 Mainz
END:VEVENT
BEGIN:VEVENT
DTSTAMP:20260423T130520
DTSTART;TZID=Europe/Berlin:20270622T083000
DTEND;TZID=Europe/Berlin:20270622T114500
UID:XI52329-20270622T083000@VHSMAINZ
SUMMARY:Allgemeiner Integrationskurs - Modul 4 (XI52329) 
LOCATION:Innenstadt; vhs-Haus; B; 3.04, Karmeliterplatz 1, 55116 Mainz
END:VEVENT
BEGIN:VEVENT
DTSTAMP:20260423T130520
DTSTART;TZID=Europe/Berlin:20270623T083000
DTEND;TZID=Europe/Berlin:20270623T114500
UID:XI52329-20270623T083000@VHSMAINZ
SUMMARY:Allgemeiner Integrationskurs - Modul 4 (XI52329) 
LOCATION:Innenstadt; vhs-Haus; B; 3.04, Karmeliterplatz 1, 55116 Mainz
END:VEVENT
BEGIN:VEVENT
DTSTAMP:20260423T130520
DTSTART;TZID=Europe/Berlin:20270624T083000
DTEND;TZID=Europe/Berlin:20270624T114500
UID:XI52329-20270624T083000@VHSMAINZ
SUMMARY:Allgemeiner Integrationskurs - Modul 4 (XI52329) 
LOCATION:Innenstadt; vhs-Haus; B; 3.04, Karmeliterplatz 1, 55116 Mainz
END:VEVENT
BEGIN:VEVENT
DTSTAMP:20260423T130520
DTSTART;TZID=Europe/Berlin:20270625T083000
DTEND;TZID=Europe/Berlin:20270625T114500
UID:XI52329-20270625T083000@VHSMAINZ
SUMMARY:Allgemeiner Integrationskurs - Modul 4 (XI52329) 
LOCATION:Innenstadt; vhs-Haus; B; 3.04, Karmeliterplatz 1, 55116 Mainz
END:VEVENT
BEGIN:VEVENT
DTSTAMP:20260423T130520
DTSTART;TZID=Europe/Berlin:20270809T083000
DTEND;TZID=Europe/Berlin:20270809T114500
UID:XI52329-20270809T083000@VHSMAINZ
SUMMARY:Allgemeiner Integrationskurs - Modul 4 (XI52329) 
LOCATION:Innenstadt; vhs-Haus; B; 3.04, Karmeliterplatz 1, 55116 Mainz
END:VEVENT
BEGIN:VEVENT
DTSTAMP:20260423T130520
DTSTART;TZID=Europe/Berlin:20270810T083000
DTEND;TZID=Europe/Berlin:20270810T114500
UID:XI52329-20270810T083000@VHSMAINZ
SUMMARY:Allgemeiner Integrationskurs - Modul 4 (XI52329) 
LOCATION:Innenstadt; vhs-Haus; B; 3.04, Karmeliterplatz 1, 55116 Mainz
END:VEVENT
BEGIN:VEVENT
DTSTAMP:20260423T130520
DTSTART;TZID=Europe/Berlin:20270811T083000
DTEND;TZID=Europe/Berlin:20270811T114500
UID:XI52329-20270811T083000@VHSMAINZ
SUMMARY:Allgemeiner Integrationskurs - Modul 4 (XI52329) 
LOCATION:Innenstadt; vhs-Haus; B; 3.04, Karmeliterplatz 1, 55116 Mainz
END:VEVENT
BEGIN:VEVENT
DTSTAMP:20260423T130520
DTSTART;TZID=Europe/Berlin:20270812T083000
DTEND;TZID=Europe/Berlin:20270812T114500
UID:XI52329-20270812T083000@VHSMAINZ
SUMMARY:Allgemeiner Integrationskurs - Modul 4 (XI52329) 
LOCATION:Innenstadt; vhs-Haus; B; 3.04, Karmeliterplatz 1, 55116 Mainz
END:VEVENT
BEGIN:VEVENT
DTSTAMP:20260423T130520
DTSTART;TZID=Europe/Berlin:20270813T083000
DTEND;TZID=Europe/Berlin:20270813T114500
UID:XI52329-20270813T083000@VHSMAINZ
SUMMARY:Allgemeiner Integrationskurs - Modul 4 (XI52329) 
LOCATION:Innenstadt; vhs-Haus; B; 3.04, Karmeliterplatz 1, 55116 Mainz
END:VEVENT
BEGIN:VEVENT
DTSTAMP:20260423T130520
DTSTART;TZID=Europe/Berlin:20270816T083000
DTEND;TZID=Europe/Berlin:20270816T114500
UID:XI52329-20270816T083000@VHSMAINZ
SUMMARY:Allgemeiner Integrationskurs - Modul 4 (XI52329) 
LOCATION:Innenstadt; vhs-Haus; B; 3.04, Karmeliterplatz 1, 55116 Mainz
END:VEVENT
BEGIN:VEVENT
DTSTAMP:20260423T130520
DTSTART;TZID=Europe/Berlin:20270817T083000
DTEND;TZID=Europe/Berlin:20270817T114500
UID:XI52329-20270817T083000@VHSMAINZ
SUMMARY:Allgemeiner Integrationskurs - Modul 4 (XI52329) 
LOCATION:Innenstadt; vhs-Haus; B; 3.04, Karmeliterplatz 1, 55116 Mainz
END:VEVENT
BEGIN:VEVENT
DTSTAMP:20260423T130520
DTSTART;TZID=Europe/Berlin:20270818T083000
DTEND;TZID=Europe/Berlin:20270818T114500
UID:XI52329-20270818T083000@VHSMAINZ
SUMMARY:Allgemeiner Integrationskurs - Modul 4 (XI52329) 
LOCATION:Innenstadt; vhs-Haus; B; 3.04, Karmeliterplatz 1, 55116 Mainz
END:VEVENT
BEGIN:VEVENT
DTSTAMP:20260423T130520
DTSTART;TZID=Europe/Berlin:20270819T083000
DTEND;TZID=Europe/Berlin:20270819T114500
UID:XI52329-20270819T083000@VHSMAINZ
SUMMARY:Allgemeiner Integrationskurs - Modul 4 (XI52329) 
LOCATION:Innenstadt; vhs-Haus; B; 3.04, Karmeliterplatz 1, 55116 Mainz
END:VEVENT
BEGIN:VEVENT
DTSTAMP:20260423T130520
DTSTART;TZID=Europe/Berlin:20270820T083000
DTEND;TZID=Europe/Berlin:20270820T114500
UID:XI52329-20270820T083000@VHSMAINZ
SUMMARY:Allgemeiner Integrationskurs - Modul 4 (XI52329) 
LOCATION:Innenstadt; vhs-Haus; B; 3.04, Karmeliterplatz 1, 55116 Mainz
END:VEVENT
BEGIN:VEVENT
DTSTAMP:20260423T130520
DTSTART;TZID=Europe/Berlin:20270823T083000
DTEND;TZID=Europe/Berlin:20270823T114500
UID:XI52329-20270823T083000@VHSMAINZ
SUMMARY:Allgemeiner Integrationskurs - Modul 4 (XI52329) 
LOCATION:Innenstadt; vhs-Haus; B; 3.04, Karmeliterplatz 1, 55116 Mainz
END:VEVENT
BEGIN:VEVENT
DTSTAMP:20260423T130520
DTSTART;TZID=Europe/Berlin:20270824T083000
DTEND;TZID=Europe/Berlin:20270824T114500
UID:XI52329-20270824T083000@VHSMAINZ
SUMMARY:Allgemeiner Integrationskurs - Modul 4 (XI52329) 
LOCATION:Innenstadt; vhs-Haus; B; 3.04, Karmeliterplatz 1, 55116 Mainz
END:VEVENT
BEGIN:VEVENT
DTSTAMP:20260423T130520
DTSTART;TZID=Europe/Berlin:20270825T083000
DTEND;TZID=Europe/Berlin:20270825T114500
UID:XI52329-20270825T083000@VHSMAINZ
SUMMARY:Allgemeiner Integrationskurs - Modul 4 (XI52329) 
LOCATION:Innenstadt; vhs-Haus; B; 3.04, Karmeliterplatz 1, 55116 Mainz
END:VEVENT
BEGIN:VEVENT
DTSTAMP:20260423T130520
DTSTART;TZID=Europe/Berlin:20270826T083000
DTEND;TZID=Europe/Berlin:20270826T114500
UID:XI52329-20270826T083000@VHSMAINZ
SUMMARY:Allgemeiner Integrationskurs - Modul 4 (XI52329) 
LOCATION:Innenstadt; vhs-Haus; B; 3.04, Karmeliterplatz 1, 55116 Mainz
END:VEVENT
BEGIN:VEVENT
DTSTAMP:20260423T130520
DTSTART;TZID=Europe/Berlin:20270827T083000
DTEND;TZID=Europe/Berlin:20270827T114500
UID:XI52329-20270827T083000@VHSMAINZ
SUMMARY:Allgemeiner Integrationskurs - Modul 4 (XI52329) 
LOCATION:Innenstadt; vhs-Haus; B; 3.04, Karmeliterplatz 1, 55116 Mainz
END:VEVENT
BEGIN:VEVENT
DTSTAMP:20260423T130520
DTSTART;TZID=Europe/Berlin:20270830T083000
DTEND;TZID=Europe/Berlin:20270830T114500
UID:XI52329-20270830T083000@VHSMAINZ
SUMMARY:Allgemeiner Integrationskurs - Modul 4 (XI52329) 
LOCATION:Innenstadt; vhs-Haus; B; 3.04, Karmeliterplatz 1, 55116 Mainz
END:VEVENT
BEGIN:VEVENT
DTSTAMP:20260423T130520
DTSTART;TZID=Europe/Berlin:20270831T083000
DTEND;TZID=Europe/Berlin:20270831T114500
UID:XI52329-20270831T083000@VHSMAINZ
SUMMARY:Allgemeiner Integrationskurs - Modul 4 (XI52329) 
LOCATION:Innenstadt; vhs-Haus; B; 3.04, Karmeliterplatz 1, 55116 Mainz
END:VEVENT
BEGIN:VEVENT
DTSTAMP:20260423T130520
DTSTART;TZID=Europe/Berlin:20270901T083000
DTEND;TZID=Europe/Berlin:20270901T114500
UID:XI52329-20270901T083000@VHSMAINZ
SUMMARY:Allgemeiner Integrationskurs - Modul 4 (XI52329) 
LOCATION:Innenstadt; vhs-Haus; B; 3.04, Karmeliterplatz 1, 55116 Mainz
END:VEVENT
END:VCALENDAR