BEGIN:VCALENDAR
VERSION:2.0
PRODID:https://www.kufer.de/kuferweb / DE
METHOD:PUBLISH
CALSCALE:GREGORIAN
X-WR-TIMEZONE:Europe/Berlin
BEGIN:VTIMEZONE
TZID:Europe/Berlin
X-LIC-LOCATION:Europe/Berlin
BEGIN:DAYLIGHT
TZOFFSETFROM:+0100
TZOFFSETTO:+0200
TZNAME:CEST
DTSTART:19700329T020000
RRULE:FREQ=YEARLY;INTERVAL=1;BYDAY=-1SU;BYMONTH=3
END:DAYLIGHT
BEGIN:STANDARD
TZOFFSETFROM:+0200
TZOFFSETTO:+0100
TZNAME:CET
DTSTART:19701025T030000
RRULE:FREQ=YEARLY;INTERVAL=1;BYDAY=-1SU;BYMONTH=10
END:STANDARD
END:VTIMEZONE
BEGIN:VEVENT
DTSTAMP:20260423T032701
DTSTART;TZID=Europe/Berlin:20270503T083000
DTEND;TZID=Europe/Berlin:20270503T114500
UID:XI52328-20270503T083000@VHSMAINZ
SUMMARY:Allgemeiner Integrationskurs - Modul 3 (XI52328) 
LOCATION:Innenstadt; vhs-Haus; B; 3.04, Karmeliterplatz 1, 55116 Mainz
END:VEVENT
BEGIN:VEVENT
DTSTAMP:20260423T032701
DTSTART;TZID=Europe/Berlin:20270504T083000
DTEND;TZID=Europe/Berlin:20270504T114500
UID:XI52328-20270504T083000@VHSMAINZ
SUMMARY:Allgemeiner Integrationskurs - Modul 3 (XI52328) 
LOCATION:Innenstadt; vhs-Haus; B; 3.04, Karmeliterplatz 1, 55116 Mainz
END:VEVENT
BEGIN:VEVENT
DTSTAMP:20260423T032701
DTSTART;TZID=Europe/Berlin:20270505T083000
DTEND;TZID=Europe/Berlin:20270505T114500
UID:XI52328-20270505T083000@VHSMAINZ
SUMMARY:Allgemeiner Integrationskurs - Modul 3 (XI52328) 
LOCATION:Innenstadt; vhs-Haus; B; 3.04, Karmeliterplatz 1, 55116 Mainz
END:VEVENT
BEGIN:VEVENT
DTSTAMP:20260423T032701
DTSTART;TZID=Europe/Berlin:20270510T083000
DTEND;TZID=Europe/Berlin:20270510T114500
UID:XI52328-20270510T083000@VHSMAINZ
SUMMARY:Allgemeiner Integrationskurs - Modul 3 (XI52328) 
LOCATION:Innenstadt; vhs-Haus; B; 3.04, Karmeliterplatz 1, 55116 Mainz
END:VEVENT
BEGIN:VEVENT
DTSTAMP:20260423T032701
DTSTART;TZID=Europe/Berlin:20270511T083000
DTEND;TZID=Europe/Berlin:20270511T114500
UID:XI52328-20270511T083000@VHSMAINZ
SUMMARY:Allgemeiner Integrationskurs - Modul 3 (XI52328) 
LOCATION:Innenstadt; vhs-Haus; B; 3.04, Karmeliterplatz 1, 55116 Mainz
END:VEVENT
BEGIN:VEVENT
DTSTAMP:20260423T032701
DTSTART;TZID=Europe/Berlin:20270512T083000
DTEND;TZID=Europe/Berlin:20270512T114500
UID:XI52328-20270512T083000@VHSMAINZ
SUMMARY:Allgemeiner Integrationskurs - Modul 3 (XI52328) 
LOCATION:Innenstadt; vhs-Haus; B; 3.04, Karmeliterplatz 1, 55116 Mainz
END:VEVENT
BEGIN:VEVENT
DTSTAMP:20260423T032701
DTSTART;TZID=Europe/Berlin:20270513T083000
DTEND;TZID=Europe/Berlin:20270513T114500
UID:XI52328-20270513T083000@VHSMAINZ
SUMMARY:Allgemeiner Integrationskurs - Modul 3 (XI52328) 
LOCATION:Innenstadt; vhs-Haus; B; 3.04, Karmeliterplatz 1, 55116 Mainz
END:VEVENT
BEGIN:VEVENT
DTSTAMP:20260423T032701
DTSTART;TZID=Europe/Berlin:20270514T083000
DTEND;TZID=Europe/Berlin:20270514T114500
UID:XI52328-20270514T083000@VHSMAINZ
SUMMARY:Allgemeiner Integrationskurs - Modul 3 (XI52328) 
LOCATION:Innenstadt; vhs-Haus; B; 3.04, Karmeliterplatz 1, 55116 Mainz
END:VEVENT
BEGIN:VEVENT
DTSTAMP:20260423T032701
DTSTART;TZID=Europe/Berlin:20270518T083000
DTEND;TZID=Europe/Berlin:20270518T114500
UID:XI52328-20270518T083000@VHSMAINZ
SUMMARY:Allgemeiner Integrationskurs - Modul 3 (XI52328) 
LOCATION:Innenstadt; vhs-Haus; B; 3.04, Karmeliterplatz 1, 55116 Mainz
END:VEVENT
BEGIN:VEVENT
DTSTAMP:20260423T032701
DTSTART;TZID=Europe/Berlin:20270519T083000
DTEND;TZID=Europe/Berlin:20270519T114500
UID:XI52328-20270519T083000@VHSMAINZ
SUMMARY:Allgemeiner Integrationskurs - Modul 3 (XI52328) 
LOCATION:Innenstadt; vhs-Haus; B; 3.04, Karmeliterplatz 1, 55116 Mainz
END:VEVENT
BEGIN:VEVENT
DTSTAMP:20260423T032701
DTSTART;TZID=Europe/Berlin:20270520T083000
DTEND;TZID=Europe/Berlin:20270520T114500
UID:XI52328-20270520T083000@VHSMAINZ
SUMMARY:Allgemeiner Integrationskurs - Modul 3 (XI52328) 
LOCATION:Innenstadt; vhs-Haus; B; 3.04, Karmeliterplatz 1, 55116 Mainz
END:VEVENT
BEGIN:VEVENT
DTSTAMP:20260423T032701
DTSTART;TZID=Europe/Berlin:20270521T083000
DTEND;TZID=Europe/Berlin:20270521T114500
UID:XI52328-20270521T083000@VHSMAINZ
SUMMARY:Allgemeiner Integrationskurs - Modul 3 (XI52328) 
LOCATION:Innenstadt; vhs-Haus; B; 3.04, Karmeliterplatz 1, 55116 Mainz
END:VEVENT
BEGIN:VEVENT
DTSTAMP:20260423T032701
DTSTART;TZID=Europe/Berlin:20270524T083000
DTEND;TZID=Europe/Berlin:20270524T114500
UID:XI52328-20270524T083000@VHSMAINZ
SUMMARY:Allgemeiner Integrationskurs - Modul 3 (XI52328) 
LOCATION:Innenstadt; vhs-Haus; B; 3.04, Karmeliterplatz 1, 55116 Mainz
END:VEVENT
BEGIN:VEVENT
DTSTAMP:20260423T032701
DTSTART;TZID=Europe/Berlin:20270525T083000
DTEND;TZID=Europe/Berlin:20270525T114500
UID:XI52328-20270525T083000@VHSMAINZ
SUMMARY:Allgemeiner Integrationskurs - Modul 3 (XI52328) 
LOCATION:Innenstadt; vhs-Haus; B; 3.04, Karmeliterplatz 1, 55116 Mainz
END:VEVENT
BEGIN:VEVENT
DTSTAMP:20260423T032701
DTSTART;TZID=Europe/Berlin:20270526T083000
DTEND;TZID=Europe/Berlin:20270526T114500
UID:XI52328-20270526T083000@VHSMAINZ
SUMMARY:Allgemeiner Integrationskurs - Modul 3 (XI52328) 
LOCATION:Innenstadt; vhs-Haus; B; 3.04, Karmeliterplatz 1, 55116 Mainz
END:VEVENT
BEGIN:VEVENT
DTSTAMP:20260423T032701
DTSTART;TZID=Europe/Berlin:20270531T083000
DTEND;TZID=Europe/Berlin:20270531T114500
UID:XI52328-20270531T083000@VHSMAINZ
SUMMARY:Allgemeiner Integrationskurs - Modul 3 (XI52328) 
LOCATION:Innenstadt; vhs-Haus; B; 3.04, Karmeliterplatz 1, 55116 Mainz
END:VEVENT
BEGIN:VEVENT
DTSTAMP:20260423T032701
DTSTART;TZID=Europe/Berlin:20270601T083000
DTEND;TZID=Europe/Berlin:20270601T114500
UID:XI52328-20270601T083000@VHSMAINZ
SUMMARY:Allgemeiner Integrationskurs - Modul 3 (XI52328) 
LOCATION:Innenstadt; vhs-Haus; B; 3.04, Karmeliterplatz 1, 55116 Mainz
END:VEVENT
BEGIN:VEVENT
DTSTAMP:20260423T032701
DTSTART;TZID=Europe/Berlin:20270602T083000
DTEND;TZID=Europe/Berlin:20270602T114500
UID:XI52328-20270602T083000@VHSMAINZ
SUMMARY:Allgemeiner Integrationskurs - Modul 3 (XI52328) 
LOCATION:Innenstadt; vhs-Haus; B; 3.04, Karmeliterplatz 1, 55116 Mainz
END:VEVENT
BEGIN:VEVENT
DTSTAMP:20260423T032701
DTSTART;TZID=Europe/Berlin:20270603T083000
DTEND;TZID=Europe/Berlin:20270603T114500
UID:XI52328-20270603T083000@VHSMAINZ
SUMMARY:Allgemeiner Integrationskurs - Modul 3 (XI52328) 
LOCATION:Innenstadt; vhs-Haus; B; 3.04, Karmeliterplatz 1, 55116 Mainz
END:VEVENT
BEGIN:VEVENT
DTSTAMP:20260423T032701
DTSTART;TZID=Europe/Berlin:20270604T083000
DTEND;TZID=Europe/Berlin:20270604T114500
UID:XI52328-20270604T083000@VHSMAINZ
SUMMARY:Allgemeiner Integrationskurs - Modul 3 (XI52328) 
LOCATION:Innenstadt; vhs-Haus; B; 3.04, Karmeliterplatz 1, 55116 Mainz
END:VEVENT
BEGIN:VEVENT
DTSTAMP:20260423T032701
DTSTART;TZID=Europe/Berlin:20270607T083000
DTEND;TZID=Europe/Berlin:20270607T114500
UID:XI52328-20270607T083000@VHSMAINZ
SUMMARY:Allgemeiner Integrationskurs - Modul 3 (XI52328) 
LOCATION:Innenstadt; vhs-Haus; B; 3.04, Karmeliterplatz 1, 55116 Mainz
END:VEVENT
BEGIN:VEVENT
DTSTAMP:20260423T032701
DTSTART;TZID=Europe/Berlin:20270608T083000
DTEND;TZID=Europe/Berlin:20270608T114500
UID:XI52328-20270608T083000@VHSMAINZ
SUMMARY:Allgemeiner Integrationskurs - Modul 3 (XI52328) 
LOCATION:Innenstadt; vhs-Haus; B; 3.04, Karmeliterplatz 1, 55116 Mainz
END:VEVENT
BEGIN:VEVENT
DTSTAMP:20260423T032701
DTSTART;TZID=Europe/Berlin:20270609T083000
DTEND;TZID=Europe/Berlin:20270609T114500
UID:XI52328-20270609T083000@VHSMAINZ
SUMMARY:Allgemeiner Integrationskurs - Modul 3 (XI52328) 
LOCATION:Innenstadt; vhs-Haus; B; 3.04, Karmeliterplatz 1, 55116 Mainz
END:VEVENT
BEGIN:VEVENT
DTSTAMP:20260423T032701
DTSTART;TZID=Europe/Berlin:20270610T083000
DTEND;TZID=Europe/Berlin:20270610T114500
UID:XI52328-20270610T083000@VHSMAINZ
SUMMARY:Allgemeiner Integrationskurs - Modul 3 (XI52328) 
LOCATION:Innenstadt; vhs-Haus; B; 3.04, Karmeliterplatz 1, 55116 Mainz
END:VEVENT
BEGIN:VEVENT
DTSTAMP:20260423T032701
DTSTART;TZID=Europe/Berlin:20270611T083000
DTEND;TZID=Europe/Berlin:20270611T114500
UID:XI52328-20270611T083000@VHSMAINZ
SUMMARY:Allgemeiner Integrationskurs - Modul 3 (XI52328) 
LOCATION:Innenstadt; vhs-Haus; B; 3.04, Karmeliterplatz 1, 55116 Mainz
END:VEVENT
END:VCALENDAR