BEGIN:VCALENDAR
VERSION:2.0
PRODID:https://www.kufer.de/kuferweb / DE
METHOD:PUBLISH
CALSCALE:GREGORIAN
X-WR-TIMEZONE:Europe/Berlin
BEGIN:VTIMEZONE
TZID:Europe/Berlin
X-LIC-LOCATION:Europe/Berlin
BEGIN:DAYLIGHT
TZOFFSETFROM:+0100
TZOFFSETTO:+0200
TZNAME:CEST
DTSTART:19700329T020000
RRULE:FREQ=YEARLY;INTERVAL=1;BYDAY=-1SU;BYMONTH=3
END:DAYLIGHT
BEGIN:STANDARD
TZOFFSETFROM:+0200
TZOFFSETTO:+0100
TZNAME:CET
DTSTART:19701025T030000
RRULE:FREQ=YEARLY;INTERVAL=1;BYDAY=-1SU;BYMONTH=10
END:STANDARD
END:VTIMEZONE
BEGIN:VEVENT
DTSTAMP:20260423T011607
DTSTART;TZID=Europe/Berlin:20270309T181500
DTEND;TZID=Europe/Berlin:20270309T194500
UID:XI24007-20270309T181500@VHSMAINZ
SUMMARY:Praktische Anwendungsmöglichkeiten von Wasserstoff (XI24007) 
LOCATION:Finthen; Bürgerhaus; Raum Königsborn, Am Obstmarkt 24, 55126 Mainz-Finthen
END:VEVENT
END:VCALENDAR