BEGIN:VCALENDAR
VERSION:2.0
PRODID:https://www.kufer.de/kuferweb / DE
METHOD:PUBLISH
CALSCALE:GREGORIAN
X-WR-TIMEZONE:Europe/Berlin
BEGIN:VTIMEZONE
TZID:Europe/Berlin
X-LIC-LOCATION:Europe/Berlin
BEGIN:DAYLIGHT
TZOFFSETFROM:+0100
TZOFFSETTO:+0200
TZNAME:CEST
DTSTART:19700329T020000
RRULE:FREQ=YEARLY;INTERVAL=1;BYDAY=-1SU;BYMONTH=3
END:DAYLIGHT
BEGIN:STANDARD
TZOFFSETFROM:+0200
TZOFFSETTO:+0100
TZNAME:CET
DTSTART:19701025T030000
RRULE:FREQ=YEARLY;INTERVAL=1;BYDAY=-1SU;BYMONTH=10
END:STANDARD
END:VTIMEZONE
BEGIN:VEVENT
DTSTAMP:20260422T170436
DTSTART;TZID=Europe/Berlin:20270605T103000
DTEND;TZID=Europe/Berlin:20270605T120000
UID:XI22001-20270605T103000@VHSMAINZ
SUMMARY:Der Drususstein, das Legionslager und das spätantike Stadttor auf dem Kästrich (XI22001) 
LOCATION:Treffpunkt: Drususstein in der Zitadelle, Zitadelle, 55131 Mainz
END:VEVENT
END:VCALENDAR