BEGIN:VCALENDAR
VERSION:2.0
PRODID:https://www.kufer.de/kuferweb / DE
METHOD:PUBLISH
CALSCALE:GREGORIAN
X-WR-TIMEZONE:Europe/Berlin
BEGIN:VTIMEZONE
TZID:Europe/Berlin
X-LIC-LOCATION:Europe/Berlin
BEGIN:DAYLIGHT
TZOFFSETFROM:+0100
TZOFFSETTO:+0200
TZNAME:CEST
DTSTART:19700329T020000
RRULE:FREQ=YEARLY;INTERVAL=1;BYDAY=-1SU;BYMONTH=3
END:DAYLIGHT
BEGIN:STANDARD
TZOFFSETFROM:+0200
TZOFFSETTO:+0100
TZNAME:CET
DTSTART:19701025T030000
RRULE:FREQ=YEARLY;INTERVAL=1;BYDAY=-1SU;BYMONTH=10
END:STANDARD
END:VTIMEZONE
BEGIN:VEVENT
DTSTAMP:20260422T210228
DTSTART;TZID=Europe/Berlin:20270216T181500
DTEND;TZID=Europe/Berlin:20270216T201500
UID:XI15260-20270216T181500@VHSMAINZ
SUMMARY:Einführungskurs für ehrenamtliche rechtliche Betreuerinnen und Betreuer (XI15260) 
LOCATION:Innenstadt; vhs-Haus; C; 2.01, Karmeliterplatz 1, 55116 Mainz
END:VEVENT
BEGIN:VEVENT
DTSTAMP:20260422T210228
DTSTART;TZID=Europe/Berlin:20270223T181500
DTEND;TZID=Europe/Berlin:20270223T201500
UID:XI15260-20270223T181500@VHSMAINZ
SUMMARY:Einführungskurs für ehrenamtliche rechtliche Betreuerinnen und Betreuer (XI15260) 
LOCATION:Innenstadt; vhs-Haus; C; 2.01, Karmeliterplatz 1, 55116 Mainz
END:VEVENT
BEGIN:VEVENT
DTSTAMP:20260422T210228
DTSTART;TZID=Europe/Berlin:20270302T181500
DTEND;TZID=Europe/Berlin:20270302T201500
UID:XI15260-20270302T181500@VHSMAINZ
SUMMARY:Einführungskurs für ehrenamtliche rechtliche Betreuerinnen und Betreuer (XI15260) 
LOCATION:Innenstadt; vhs-Haus; C; 2.01, Karmeliterplatz 1, 55116 Mainz
END:VEVENT
BEGIN:VEVENT
DTSTAMP:20260422T210228
DTSTART;TZID=Europe/Berlin:20270309T181500
DTEND;TZID=Europe/Berlin:20270309T201500
UID:XI15260-20270309T181500@VHSMAINZ
SUMMARY:Einführungskurs für ehrenamtliche rechtliche Betreuerinnen und Betreuer (XI15260) 
LOCATION:Innenstadt; vhs-Haus; C; 2.01, Karmeliterplatz 1, 55116 Mainz
END:VEVENT
BEGIN:VEVENT
DTSTAMP:20260422T210228
DTSTART;TZID=Europe/Berlin:20270316T181500
DTEND;TZID=Europe/Berlin:20270316T201500
UID:XI15260-20270316T181500@VHSMAINZ
SUMMARY:Einführungskurs für ehrenamtliche rechtliche Betreuerinnen und Betreuer (XI15260) 
LOCATION:Innenstadt; vhs-Haus; C; 2.01, Karmeliterplatz 1, 55116 Mainz
END:VEVENT
END:VCALENDAR