BEGIN:VCALENDAR
VERSION:2.0
PRODID:https://www.kufer.de/kuferweb / DE
METHOD:PUBLISH
CALSCALE:GREGORIAN
X-WR-TIMEZONE:Europe/Berlin
BEGIN:VTIMEZONE
TZID:Europe/Berlin
X-LIC-LOCATION:Europe/Berlin
BEGIN:DAYLIGHT
TZOFFSETFROM:+0100
TZOFFSETTO:+0200
TZNAME:CEST
DTSTART:19700329T020000
RRULE:FREQ=YEARLY;INTERVAL=1;BYDAY=-1SU;BYMONTH=3
END:DAYLIGHT
BEGIN:STANDARD
TZOFFSETFROM:+0200
TZOFFSETTO:+0100
TZNAME:CET
DTSTART:19701025T030000
RRULE:FREQ=YEARLY;INTERVAL=1;BYDAY=-1SU;BYMONTH=10
END:STANDARD
END:VTIMEZONE
BEGIN:VEVENT
DTSTAMP:20260422T210159
DTSTART;TZID=Europe/Berlin:20270219T181500
DTEND;TZID=Europe/Berlin:20270219T194500
UID:XI13111-20270219T181500@VHSMAINZ
SUMMARY:Das alte Mainz - eine historische Bilderreise (XI13111) 
LOCATION:Hechtsheim; Bürgerhaus; Silvaner, Am Heuergrund 6, 55129 Mainz-Hechtsheim
END:VEVENT
END:VCALENDAR