BEGIN:VCALENDAR
VERSION:2.0
PRODID:https://www.kufer.de/kuferweb / DE
METHOD:PUBLISH
CALSCALE:GREGORIAN
X-WR-TIMEZONE:Europe/Berlin
BEGIN:VTIMEZONE
TZID:Europe/Berlin
X-LIC-LOCATION:Europe/Berlin
BEGIN:DAYLIGHT
TZOFFSETFROM:+0100
TZOFFSETTO:+0200
TZNAME:CEST
DTSTART:19700329T020000
RRULE:FREQ=YEARLY;INTERVAL=1;BYDAY=-1SU;BYMONTH=3
END:DAYLIGHT
BEGIN:STANDARD
TZOFFSETFROM:+0200
TZOFFSETTO:+0100
TZNAME:CET
DTSTART:19701025T030000
RRULE:FREQ=YEARLY;INTERVAL=1;BYDAY=-1SU;BYMONTH=10
END:STANDARD
END:VTIMEZONE
BEGIN:VEVENT
DTSTAMP:20260422T202404
DTSTART;TZID=Europe/Berlin:20270130T100000
DTEND;TZID=Europe/Berlin:20270130T160000
UID:XI12138-20270130T100000@VHSMAINZ
SUMMARY:Guter Umgang mit schwierigen Gefühlen (XI12138) 
LOCATION:Innenstadt; vhs-Haus; C; 1.09; Entspannung, Karmeliterplatz 1, 55116 Mainz
END:VEVENT
BEGIN:VEVENT
DTSTAMP:20260422T202404
DTSTART;TZID=Europe/Berlin:20270131T100000
DTEND;TZID=Europe/Berlin:20270131T160000
UID:XI12138-20270131T100000@VHSMAINZ
SUMMARY:Guter Umgang mit schwierigen Gefühlen (XI12138) 
LOCATION:Innenstadt; vhs-Haus; C; 1.09; Entspannung, Karmeliterplatz 1, 55116 Mainz
END:VEVENT
END:VCALENDAR