BEGIN:VCALENDAR
VERSION:2.0
PRODID:https://www.kufer.de/kuferweb / DE
METHOD:PUBLISH
CALSCALE:GREGORIAN
X-WR-TIMEZONE:Europe/Berlin
BEGIN:VTIMEZONE
TZID:Europe/Berlin
X-LIC-LOCATION:Europe/Berlin
BEGIN:DAYLIGHT
TZOFFSETFROM:+0100
TZOFFSETTO:+0200
TZNAME:CEST
DTSTART:19700329T020000
RRULE:FREQ=YEARLY;INTERVAL=1;BYDAY=-1SU;BYMONTH=3
END:DAYLIGHT
BEGIN:STANDARD
TZOFFSETFROM:+0200
TZOFFSETTO:+0100
TZNAME:CET
DTSTART:19701025T030000
RRULE:FREQ=YEARLY;INTERVAL=1;BYDAY=-1SU;BYMONTH=10
END:STANDARD
END:VTIMEZONE
BEGIN:VEVENT
DTSTAMP:20260423T070741
DTSTART;TZID=Europe/Berlin:20270217T191500
DTEND;TZID=Europe/Berlin:20270217T211500
UID:XI12103-20270217T191500@VHSMAINZ
SUMMARY:Achtsamkeits-Meditation zur Rückfall-Prophylaxe bei depressiven Störungen (XI12103) 
LOCATION:Innenstadt; vhs-Haus; C; 1.09; Entspannung, Karmeliterplatz 1, 55116 Mainz
END:VEVENT
BEGIN:VEVENT
DTSTAMP:20260423T070741
DTSTART;TZID=Europe/Berlin:20270224T191500
DTEND;TZID=Europe/Berlin:20270224T211500
UID:XI12103-20270224T191500@VHSMAINZ
SUMMARY:Achtsamkeits-Meditation zur Rückfall-Prophylaxe bei depressiven Störungen (XI12103) 
LOCATION:Innenstadt; vhs-Haus; C; 1.09; Entspannung, Karmeliterplatz 1, 55116 Mainz
END:VEVENT
BEGIN:VEVENT
DTSTAMP:20260423T070741
DTSTART;TZID=Europe/Berlin:20270303T191500
DTEND;TZID=Europe/Berlin:20270303T211500
UID:XI12103-20270303T191500@VHSMAINZ
SUMMARY:Achtsamkeits-Meditation zur Rückfall-Prophylaxe bei depressiven Störungen (XI12103) 
LOCATION:Innenstadt; vhs-Haus; C; 1.09; Entspannung, Karmeliterplatz 1, 55116 Mainz
END:VEVENT
BEGIN:VEVENT
DTSTAMP:20260423T070741
DTSTART;TZID=Europe/Berlin:20270310T191500
DTEND;TZID=Europe/Berlin:20270310T211500
UID:XI12103-20270310T191500@VHSMAINZ
SUMMARY:Achtsamkeits-Meditation zur Rückfall-Prophylaxe bei depressiven Störungen (XI12103) 
LOCATION:Innenstadt; vhs-Haus; C; 1.09; Entspannung, Karmeliterplatz 1, 55116 Mainz
END:VEVENT
BEGIN:VEVENT
DTSTAMP:20260423T070741
DTSTART;TZID=Europe/Berlin:20270317T191500
DTEND;TZID=Europe/Berlin:20270317T211500
UID:XI12103-20270317T191500@VHSMAINZ
SUMMARY:Achtsamkeits-Meditation zur Rückfall-Prophylaxe bei depressiven Störungen (XI12103) 
LOCATION:Innenstadt; vhs-Haus; C; 1.09; Entspannung, Karmeliterplatz 1, 55116 Mainz
END:VEVENT
BEGIN:VEVENT
DTSTAMP:20260423T070741
DTSTART;TZID=Europe/Berlin:20270407T191500
DTEND;TZID=Europe/Berlin:20270407T211500
UID:XI12103-20270407T191500@VHSMAINZ
SUMMARY:Achtsamkeits-Meditation zur Rückfall-Prophylaxe bei depressiven Störungen (XI12103) 
LOCATION:Innenstadt; vhs-Haus; C; 1.09; Entspannung, Karmeliterplatz 1, 55116 Mainz
END:VEVENT
BEGIN:VEVENT
DTSTAMP:20260423T070741
DTSTART;TZID=Europe/Berlin:20270414T191500
DTEND;TZID=Europe/Berlin:20270414T211500
UID:XI12103-20270414T191500@VHSMAINZ
SUMMARY:Achtsamkeits-Meditation zur Rückfall-Prophylaxe bei depressiven Störungen (XI12103) 
LOCATION:Innenstadt; vhs-Haus; C; 1.09; Entspannung, Karmeliterplatz 1, 55116 Mainz
END:VEVENT
BEGIN:VEVENT
DTSTAMP:20260423T070741
DTSTART;TZID=Europe/Berlin:20270421T191500
DTEND;TZID=Europe/Berlin:20270421T211500
UID:XI12103-20270421T191500@VHSMAINZ
SUMMARY:Achtsamkeits-Meditation zur Rückfall-Prophylaxe bei depressiven Störungen (XI12103) 
LOCATION:Innenstadt; vhs-Haus; C; 1.09; Entspannung, Karmeliterplatz 1, 55116 Mainz
END:VEVENT
END:VCALENDAR