BEGIN:VCALENDAR
VERSION:2.0
PRODID:https://www.kufer.de/kuferweb / DE
METHOD:PUBLISH
CALSCALE:GREGORIAN
X-WR-TIMEZONE:Europe/Berlin
BEGIN:VTIMEZONE
TZID:Europe/Berlin
X-LIC-LOCATION:Europe/Berlin
BEGIN:DAYLIGHT
TZOFFSETFROM:+0100
TZOFFSETTO:+0200
TZNAME:CEST
DTSTART:19700329T020000
RRULE:FREQ=YEARLY;INTERVAL=1;BYDAY=-1SU;BYMONTH=3
END:DAYLIGHT
BEGIN:STANDARD
TZOFFSETFROM:+0200
TZOFFSETTO:+0100
TZNAME:CET
DTSTART:19701025T030000
RRULE:FREQ=YEARLY;INTERVAL=1;BYDAY=-1SU;BYMONTH=10
END:STANDARD
END:VTIMEZONE
BEGIN:VEVENT
DTSTAMP:20260421T211019
DTSTART;TZID=Europe/Berlin:20260923T191500
DTEND;TZID=Europe/Berlin:20260923T211500
UID:XI12102-20260923T191500@VHSMAINZ
SUMMARY:Achtsamkeits-Meditation zur Rückfall-Prophylaxe bei depressiven Störungen (XI12102) 
LOCATION:Innenstadt; vhs-Haus; C; 1.09; Entspannung, Karmeliterplatz 1, 55116 Mainz
END:VEVENT
BEGIN:VEVENT
DTSTAMP:20260421T211019
DTSTART;TZID=Europe/Berlin:20260930T191500
DTEND;TZID=Europe/Berlin:20260930T211500
UID:XI12102-20260930T191500@VHSMAINZ
SUMMARY:Achtsamkeits-Meditation zur Rückfall-Prophylaxe bei depressiven Störungen (XI12102) 
LOCATION:Innenstadt; vhs-Haus; C; 1.09; Entspannung, Karmeliterplatz 1, 55116 Mainz
END:VEVENT
BEGIN:VEVENT
DTSTAMP:20260421T211019
DTSTART;TZID=Europe/Berlin:20261021T191500
DTEND;TZID=Europe/Berlin:20261021T211500
UID:XI12102-20261021T191500@VHSMAINZ
SUMMARY:Achtsamkeits-Meditation zur Rückfall-Prophylaxe bei depressiven Störungen (XI12102) 
LOCATION:Innenstadt; vhs-Haus; C; 1.09; Entspannung, Karmeliterplatz 1, 55116 Mainz
END:VEVENT
BEGIN:VEVENT
DTSTAMP:20260421T211019
DTSTART;TZID=Europe/Berlin:20261028T191500
DTEND;TZID=Europe/Berlin:20261028T211500
UID:XI12102-20261028T191500@VHSMAINZ
SUMMARY:Achtsamkeits-Meditation zur Rückfall-Prophylaxe bei depressiven Störungen (XI12102) 
LOCATION:Innenstadt; vhs-Haus; C; 1.09; Entspannung, Karmeliterplatz 1, 55116 Mainz
END:VEVENT
BEGIN:VEVENT
DTSTAMP:20260421T211019
DTSTART;TZID=Europe/Berlin:20261104T191500
DTEND;TZID=Europe/Berlin:20261104T211500
UID:XI12102-20261104T191500@VHSMAINZ
SUMMARY:Achtsamkeits-Meditation zur Rückfall-Prophylaxe bei depressiven Störungen (XI12102) 
LOCATION:Innenstadt; vhs-Haus; C; 1.09; Entspannung, Karmeliterplatz 1, 55116 Mainz
END:VEVENT
BEGIN:VEVENT
DTSTAMP:20260421T211019
DTSTART;TZID=Europe/Berlin:20261111T191500
DTEND;TZID=Europe/Berlin:20261111T211500
UID:XI12102-20261111T191500@VHSMAINZ
SUMMARY:Achtsamkeits-Meditation zur Rückfall-Prophylaxe bei depressiven Störungen (XI12102) 
LOCATION:Innenstadt; vhs-Haus; C; 1.09; Entspannung, Karmeliterplatz 1, 55116 Mainz
END:VEVENT
BEGIN:VEVENT
DTSTAMP:20260421T211019
DTSTART;TZID=Europe/Berlin:20261118T191500
DTEND;TZID=Europe/Berlin:20261118T211500
UID:XI12102-20261118T191500@VHSMAINZ
SUMMARY:Achtsamkeits-Meditation zur Rückfall-Prophylaxe bei depressiven Störungen (XI12102) 
LOCATION:Innenstadt; vhs-Haus; C; 1.09; Entspannung, Karmeliterplatz 1, 55116 Mainz
END:VEVENT
BEGIN:VEVENT
DTSTAMP:20260421T211019
DTSTART;TZID=Europe/Berlin:20261125T191500
DTEND;TZID=Europe/Berlin:20261125T211500
UID:XI12102-20261125T191500@VHSMAINZ
SUMMARY:Achtsamkeits-Meditation zur Rückfall-Prophylaxe bei depressiven Störungen (XI12102) 
LOCATION:Innenstadt; vhs-Haus; C; 1.09; Entspannung, Karmeliterplatz 1, 55116 Mainz
END:VEVENT
END:VCALENDAR