BEGIN:VCALENDAR
VERSION:2.0
PRODID:https://www.kufer.de/kuferweb / DE
METHOD:PUBLISH
CALSCALE:GREGORIAN
X-WR-TIMEZONE:Europe/Berlin
BEGIN:VTIMEZONE
TZID:Europe/Berlin
X-LIC-LOCATION:Europe/Berlin
BEGIN:DAYLIGHT
TZOFFSETFROM:+0100
TZOFFSETTO:+0200
TZNAME:CEST
DTSTART:19700329T020000
RRULE:FREQ=YEARLY;INTERVAL=1;BYDAY=-1SU;BYMONTH=3
END:DAYLIGHT
BEGIN:STANDARD
TZOFFSETFROM:+0200
TZOFFSETTO:+0100
TZNAME:CET
DTSTART:19701025T030000
RRULE:FREQ=YEARLY;INTERVAL=1;BYDAY=-1SU;BYMONTH=10
END:STANDARD
END:VTIMEZONE
BEGIN:VEVENT
DTSTAMP:20260421T132905
DTSTART;TZID=Europe/Berlin:20260326T200000
DTEND;TZID=Europe/Berlin:20260326T213000
UID:XH65346-20260326T200000@VHSMAINZ
SUMMARY:Tanzkurs Salsa Cubana und Bachata (XH65346) 
LOCATION:Weisenau; Schillerschule; Turnhalle, Portlandstraße 26, 55130 Mainz-Weisenau
END:VEVENT
BEGIN:VEVENT
DTSTAMP:20260421T132905
DTSTART;TZID=Europe/Berlin:20260416T200000
DTEND;TZID=Europe/Berlin:20260416T213000
UID:XH65346-20260416T200000@VHSMAINZ
SUMMARY:Tanzkurs Salsa Cubana und Bachata (XH65346) 
LOCATION:Weisenau; Schillerschule; Turnhalle, Portlandstraße 26, 55130 Mainz-Weisenau
END:VEVENT
BEGIN:VEVENT
DTSTAMP:20260421T132905
DTSTART;TZID=Europe/Berlin:20260423T200000
DTEND;TZID=Europe/Berlin:20260423T213000
UID:XH65346-20260423T200000@VHSMAINZ
SUMMARY:Tanzkurs Salsa Cubana und Bachata (XH65346) 
LOCATION:Weisenau; Schillerschule; Turnhalle, Portlandstraße 26, 55130 Mainz-Weisenau
END:VEVENT
BEGIN:VEVENT
DTSTAMP:20260421T132905
DTSTART;TZID=Europe/Berlin:20260430T200000
DTEND;TZID=Europe/Berlin:20260430T213000
UID:XH65346-20260430T200000@VHSMAINZ
SUMMARY:Tanzkurs Salsa Cubana und Bachata (XH65346) 
LOCATION:Weisenau; Schillerschule; Turnhalle, Portlandstraße 26, 55130 Mainz-Weisenau
END:VEVENT
BEGIN:VEVENT
DTSTAMP:20260421T132905
DTSTART;TZID=Europe/Berlin:20260507T200000
DTEND;TZID=Europe/Berlin:20260507T213000
UID:XH65346-20260507T200000@VHSMAINZ
SUMMARY:Tanzkurs Salsa Cubana und Bachata (XH65346) 
LOCATION:Weisenau; Schillerschule; Turnhalle, Portlandstraße 26, 55130 Mainz-Weisenau
END:VEVENT
BEGIN:VEVENT
DTSTAMP:20260421T132905
DTSTART;TZID=Europe/Berlin:20260521T200000
DTEND;TZID=Europe/Berlin:20260521T213000
UID:XH65346-20260521T200000@VHSMAINZ
SUMMARY:Tanzkurs Salsa Cubana und Bachata (XH65346) 
LOCATION:Weisenau; Schillerschule; Turnhalle, Portlandstraße 26, 55130 Mainz-Weisenau
END:VEVENT
BEGIN:VEVENT
DTSTAMP:20260421T132905
DTSTART;TZID=Europe/Berlin:20260611T200000
DTEND;TZID=Europe/Berlin:20260611T213000
UID:XH65346-20260611T200000@VHSMAINZ
SUMMARY:Tanzkurs Salsa Cubana und Bachata (XH65346) 
LOCATION:Weisenau; Schillerschule; Turnhalle, Portlandstraße 26, 55130 Mainz-Weisenau
END:VEVENT
BEGIN:VEVENT
DTSTAMP:20260421T132905
DTSTART;TZID=Europe/Berlin:20260618T200000
DTEND;TZID=Europe/Berlin:20260618T213000
UID:XH65346-20260618T200000@VHSMAINZ
SUMMARY:Tanzkurs Salsa Cubana und Bachata (XH65346) 
LOCATION:Weisenau; Schillerschule; Turnhalle, Portlandstraße 26, 55130 Mainz-Weisenau
END:VEVENT
END:VCALENDAR