BEGIN:VCALENDAR
VERSION:2.0
PRODID:https://www.kufer.de/kuferweb / DE
METHOD:PUBLISH
CALSCALE:GREGORIAN
X-WR-TIMEZONE:Europe/Berlin
BEGIN:VTIMEZONE
TZID:Europe/Berlin
X-LIC-LOCATION:Europe/Berlin
BEGIN:DAYLIGHT
TZOFFSETFROM:+0100
TZOFFSETTO:+0200
TZNAME:CEST
DTSTART:19700329T020000
RRULE:FREQ=YEARLY;INTERVAL=1;BYDAY=-1SU;BYMONTH=3
END:DAYLIGHT
BEGIN:STANDARD
TZOFFSETFROM:+0200
TZOFFSETTO:+0100
TZNAME:CET
DTSTART:19701025T030000
RRULE:FREQ=YEARLY;INTERVAL=1;BYDAY=-1SU;BYMONTH=10
END:STANDARD
END:VTIMEZONE
BEGIN:VEVENT
DTSTAMP:20260420T225416
DTSTART;TZID=Europe/Berlin:20260505T194500
DTEND;TZID=Europe/Berlin:20260505T211500
UID:XH58827-20260505T194500@VHSMAINZ
SUMMARY:Schwedisch für den Urlaub A1 ONLINE (XH58827) 
LOCATION:Online; vhs.cloud
END:VEVENT
BEGIN:VEVENT
DTSTAMP:20260420T225416
DTSTART;TZID=Europe/Berlin:20260512T194500
DTEND;TZID=Europe/Berlin:20260512T211500
UID:XH58827-20260512T194500@VHSMAINZ
SUMMARY:Schwedisch für den Urlaub A1 ONLINE (XH58827) 
LOCATION:Online; vhs.cloud
END:VEVENT
BEGIN:VEVENT
DTSTAMP:20260420T225416
DTSTART;TZID=Europe/Berlin:20260519T194500
DTEND;TZID=Europe/Berlin:20260519T211500
UID:XH58827-20260519T194500@VHSMAINZ
SUMMARY:Schwedisch für den Urlaub A1 ONLINE (XH58827) 
LOCATION:Online; vhs.cloud
END:VEVENT
BEGIN:VEVENT
DTSTAMP:20260420T225416
DTSTART;TZID=Europe/Berlin:20260602T194500
DTEND;TZID=Europe/Berlin:20260602T211500
UID:XH58827-20260602T194500@VHSMAINZ
SUMMARY:Schwedisch für den Urlaub A1 ONLINE (XH58827) 
LOCATION:Online; vhs.cloud
END:VEVENT
BEGIN:VEVENT
DTSTAMP:20260420T225416
DTSTART;TZID=Europe/Berlin:20260609T194500
DTEND;TZID=Europe/Berlin:20260609T211500
UID:XH58827-20260609T194500@VHSMAINZ
SUMMARY:Schwedisch für den Urlaub A1 ONLINE (XH58827) 
LOCATION:Online; vhs.cloud
END:VEVENT
END:VCALENDAR