BEGIN:VCALENDAR
VERSION:2.0
PRODID:https://www.kufer.de/kuferweb / DE
METHOD:PUBLISH
CALSCALE:GREGORIAN
X-WR-TIMEZONE:Europe/Berlin
BEGIN:VTIMEZONE
TZID:Europe/Berlin
X-LIC-LOCATION:Europe/Berlin
BEGIN:DAYLIGHT
TZOFFSETFROM:+0100
TZOFFSETTO:+0200
TZNAME:CEST
DTSTART:19700329T020000
RRULE:FREQ=YEARLY;INTERVAL=1;BYDAY=-1SU;BYMONTH=3
END:DAYLIGHT
BEGIN:STANDARD
TZOFFSETFROM:+0200
TZOFFSETTO:+0100
TZNAME:CET
DTSTART:19701025T030000
RRULE:FREQ=YEARLY;INTERVAL=1;BYDAY=-1SU;BYMONTH=10
END:STANDARD
END:VTIMEZONE
BEGIN:VEVENT
DTSTAMP:20260420T210628
DTSTART;TZID=Europe/Berlin:20260506T191500
DTEND;TZID=Europe/Berlin:20260506T204500
UID:XH58458-20260506T191500@VHSMAINZ
SUMMARY:Japanisch B2/2 (XH58458) 
LOCATION:Innenstadt; vhs-Haus; C; 2.04, Karmeliterplatz 1, 55116 Mainz
END:VEVENT
BEGIN:VEVENT
DTSTAMP:20260420T210628
DTSTART;TZID=Europe/Berlin:20260513T191500
DTEND;TZID=Europe/Berlin:20260513T204500
UID:XH58458-20260513T191500@VHSMAINZ
SUMMARY:Japanisch B2/2 (XH58458) 
LOCATION:Innenstadt; vhs-Haus; C; 2.04, Karmeliterplatz 1, 55116 Mainz
END:VEVENT
BEGIN:VEVENT
DTSTAMP:20260420T210628
DTSTART;TZID=Europe/Berlin:20260520T191500
DTEND;TZID=Europe/Berlin:20260520T204500
UID:XH58458-20260520T191500@VHSMAINZ
SUMMARY:Japanisch B2/2 (XH58458) 
LOCATION:Innenstadt; vhs-Haus; C; 2.04, Karmeliterplatz 1, 55116 Mainz
END:VEVENT
BEGIN:VEVENT
DTSTAMP:20260420T210628
DTSTART;TZID=Europe/Berlin:20260527T191500
DTEND;TZID=Europe/Berlin:20260527T204500
UID:XH58458-20260527T191500@VHSMAINZ
SUMMARY:Japanisch B2/2 (XH58458) 
LOCATION:Innenstadt; vhs-Haus; C; 2.04, Karmeliterplatz 1, 55116 Mainz
END:VEVENT
BEGIN:VEVENT
DTSTAMP:20260420T210628
DTSTART;TZID=Europe/Berlin:20260603T191500
DTEND;TZID=Europe/Berlin:20260603T204500
UID:XH58458-20260603T191500@VHSMAINZ
SUMMARY:Japanisch B2/2 (XH58458) 
LOCATION:Innenstadt; vhs-Haus; C; 2.04, Karmeliterplatz 1, 55116 Mainz
END:VEVENT
END:VCALENDAR