BEGIN:VCALENDAR
VERSION:2.0
PRODID:https://www.kufer.de/kuferweb / DE
METHOD:PUBLISH
CALSCALE:GREGORIAN
X-WR-TIMEZONE:Europe/Berlin
BEGIN:VTIMEZONE
TZID:Europe/Berlin
X-LIC-LOCATION:Europe/Berlin
BEGIN:DAYLIGHT
TZOFFSETFROM:+0100
TZOFFSETTO:+0200
TZNAME:CEST
DTSTART:19700329T020000
RRULE:FREQ=YEARLY;INTERVAL=1;BYDAY=-1SU;BYMONTH=3
END:DAYLIGHT
BEGIN:STANDARD
TZOFFSETFROM:+0200
TZOFFSETTO:+0100
TZNAME:CET
DTSTART:19701025T030000
RRULE:FREQ=YEARLY;INTERVAL=1;BYDAY=-1SU;BYMONTH=10
END:STANDARD
END:VTIMEZONE
BEGIN:VEVENT
DTSTAMP:20260421T080322
DTSTART;TZID=Europe/Berlin:20260505T170000
DTEND;TZID=Europe/Berlin:20260505T183000
UID:XH57473-20260505T170000@VHSMAINZ
SUMMARY:Spanisch A1/3+ (XH57473) 
LOCATION:Innenstadt; vhs-Haus; C; 1.15, Karmeliterplatz 1, 55116 Mainz
END:VEVENT
BEGIN:VEVENT
DTSTAMP:20260421T080322
DTSTART;TZID=Europe/Berlin:20260512T170000
DTEND;TZID=Europe/Berlin:20260512T183000
UID:XH57473-20260512T170000@VHSMAINZ
SUMMARY:Spanisch A1/3+ (XH57473) 
LOCATION:Innenstadt; vhs-Haus; C; 1.15, Karmeliterplatz 1, 55116 Mainz
END:VEVENT
BEGIN:VEVENT
DTSTAMP:20260421T080322
DTSTART;TZID=Europe/Berlin:20260519T170000
DTEND;TZID=Europe/Berlin:20260519T183000
UID:XH57473-20260519T170000@VHSMAINZ
SUMMARY:Spanisch A1/3+ (XH57473) 
LOCATION:Innenstadt; vhs-Haus; C; 1.15, Karmeliterplatz 1, 55116 Mainz
END:VEVENT
BEGIN:VEVENT
DTSTAMP:20260421T080322
DTSTART;TZID=Europe/Berlin:20260526T170000
DTEND;TZID=Europe/Berlin:20260526T183000
UID:XH57473-20260526T170000@VHSMAINZ
SUMMARY:Spanisch A1/3+ (XH57473) 
LOCATION:Innenstadt; vhs-Haus; C; 1.15, Karmeliterplatz 1, 55116 Mainz
END:VEVENT
BEGIN:VEVENT
DTSTAMP:20260421T080322
DTSTART;TZID=Europe/Berlin:20260602T170000
DTEND;TZID=Europe/Berlin:20260602T183000
UID:XH57473-20260602T170000@VHSMAINZ
SUMMARY:Spanisch A1/3+ (XH57473) 
LOCATION:Innenstadt; vhs-Haus; C; 1.15, Karmeliterplatz 1, 55116 Mainz
END:VEVENT
END:VCALENDAR