BEGIN:VCALENDAR
VERSION:2.0
PRODID:https://www.kufer.de/kuferweb / DE
METHOD:PUBLISH
CALSCALE:GREGORIAN
X-WR-TIMEZONE:Europe/Berlin
BEGIN:VTIMEZONE
TZID:Europe/Berlin
X-LIC-LOCATION:Europe/Berlin
BEGIN:DAYLIGHT
TZOFFSETFROM:+0100
TZOFFSETTO:+0200
TZNAME:CEST
DTSTART:19700329T020000
RRULE:FREQ=YEARLY;INTERVAL=1;BYDAY=-1SU;BYMONTH=3
END:DAYLIGHT
BEGIN:STANDARD
TZOFFSETFROM:+0200
TZOFFSETTO:+0100
TZNAME:CET
DTSTART:19701025T030000
RRULE:FREQ=YEARLY;INTERVAL=1;BYDAY=-1SU;BYMONTH=10
END:STANDARD
END:VTIMEZONE
BEGIN:VEVENT
DTSTAMP:20260420T225039
DTSTART;TZID=Europe/Berlin:20260507T084500
DTEND;TZID=Europe/Berlin:20260507T101500
UID:XH56524-20260507T084500@VHSMAINZ
SUMMARY:Italienisch A2/5 (XH56524) 
LOCATION:Innenstadt; vhs-Haus; C; 3.03, Karmeliterplatz 1, 55116 Mainz
END:VEVENT
BEGIN:VEVENT
DTSTAMP:20260420T225039
DTSTART;TZID=Europe/Berlin:20260521T084500
DTEND;TZID=Europe/Berlin:20260521T101500
UID:XH56524-20260521T084500@VHSMAINZ
SUMMARY:Italienisch A2/5 (XH56524) 
LOCATION:Innenstadt; vhs-Haus; C; 3.03, Karmeliterplatz 1, 55116 Mainz
END:VEVENT
BEGIN:VEVENT
DTSTAMP:20260420T225039
DTSTART;TZID=Europe/Berlin:20260528T084500
DTEND;TZID=Europe/Berlin:20260528T101500
UID:XH56524-20260528T084500@VHSMAINZ
SUMMARY:Italienisch A2/5 (XH56524) 
LOCATION:Innenstadt; vhs-Haus; C; 3.03, Karmeliterplatz 1, 55116 Mainz
END:VEVENT
BEGIN:VEVENT
DTSTAMP:20260420T225039
DTSTART;TZID=Europe/Berlin:20260618T084500
DTEND;TZID=Europe/Berlin:20260618T101500
UID:XH56524-20260618T084500@VHSMAINZ
SUMMARY:Italienisch A2/5 (XH56524) 
LOCATION:Innenstadt; vhs-Haus; C; 3.03, Karmeliterplatz 1, 55116 Mainz
END:VEVENT
BEGIN:VEVENT
DTSTAMP:20260420T225039
DTSTART;TZID=Europe/Berlin:20260625T084500
DTEND;TZID=Europe/Berlin:20260625T101500
UID:XH56524-20260625T084500@VHSMAINZ
SUMMARY:Italienisch A2/5 (XH56524) 
LOCATION:Innenstadt; vhs-Haus; C; 3.03, Karmeliterplatz 1, 55116 Mainz
END:VEVENT
END:VCALENDAR