BEGIN:VCALENDAR
VERSION:2.0
PRODID:https://www.kufer.de/kuferweb / DE
METHOD:PUBLISH
CALSCALE:GREGORIAN
X-WR-TIMEZONE:Europe/Berlin
BEGIN:VTIMEZONE
TZID:Europe/Berlin
X-LIC-LOCATION:Europe/Berlin
BEGIN:DAYLIGHT
TZOFFSETFROM:+0100
TZOFFSETTO:+0200
TZNAME:CEST
DTSTART:19700329T020000
RRULE:FREQ=YEARLY;INTERVAL=1;BYDAY=-1SU;BYMONTH=3
END:DAYLIGHT
BEGIN:STANDARD
TZOFFSETFROM:+0200
TZOFFSETTO:+0100
TZNAME:CET
DTSTART:19701025T030000
RRULE:FREQ=YEARLY;INTERVAL=1;BYDAY=-1SU;BYMONTH=10
END:STANDARD
END:VTIMEZONE
BEGIN:VEVENT
DTSTAMP:20260421T174244
DTSTART;TZID=Europe/Berlin:20260429T103000
DTEND;TZID=Europe/Berlin:20260429T120000
UID:XH54427-20260429T103000@VHSMAINZ
SUMMARY:Not Just Talking (B2) - Wiederholen, Auffrischen, Entdecken: Die Welt des Englischen in Texten, Filmsequenzen und Musik." (XH54427) 
LOCATION:Innenstadt; vhs-Haus; C; 0.10, Karmeliterplatz 1, 55116 Mainz
END:VEVENT
BEGIN:VEVENT
DTSTAMP:20260421T174244
DTSTART;TZID=Europe/Berlin:20260506T103000
DTEND;TZID=Europe/Berlin:20260506T120000
UID:XH54427-20260506T103000@VHSMAINZ
SUMMARY:Not Just Talking (B2) - Wiederholen, Auffrischen, Entdecken: Die Welt des Englischen in Texten, Filmsequenzen und Musik." (XH54427) 
LOCATION:Innenstadt; vhs-Haus; C; 0.10, Karmeliterplatz 1, 55116 Mainz
END:VEVENT
BEGIN:VEVENT
DTSTAMP:20260421T174244
DTSTART;TZID=Europe/Berlin:20260513T103000
DTEND;TZID=Europe/Berlin:20260513T120000
UID:XH54427-20260513T103000@VHSMAINZ
SUMMARY:Not Just Talking (B2) - Wiederholen, Auffrischen, Entdecken: Die Welt des Englischen in Texten, Filmsequenzen und Musik." (XH54427) 
LOCATION:Innenstadt; vhs-Haus; C; 0.10, Karmeliterplatz 1, 55116 Mainz
END:VEVENT
BEGIN:VEVENT
DTSTAMP:20260421T174244
DTSTART;TZID=Europe/Berlin:20260520T103000
DTEND;TZID=Europe/Berlin:20260520T120000
UID:XH54427-20260520T103000@VHSMAINZ
SUMMARY:Not Just Talking (B2) - Wiederholen, Auffrischen, Entdecken: Die Welt des Englischen in Texten, Filmsequenzen und Musik." (XH54427) 
LOCATION:Innenstadt; vhs-Haus; C; 0.10, Karmeliterplatz 1, 55116 Mainz
END:VEVENT
BEGIN:VEVENT
DTSTAMP:20260421T174244
DTSTART;TZID=Europe/Berlin:20260527T103000
DTEND;TZID=Europe/Berlin:20260527T120000
UID:XH54427-20260527T103000@VHSMAINZ
SUMMARY:Not Just Talking (B2) - Wiederholen, Auffrischen, Entdecken: Die Welt des Englischen in Texten, Filmsequenzen und Musik." (XH54427) 
LOCATION:Innenstadt; vhs-Haus; C; 0.10, Karmeliterplatz 1, 55116 Mainz
END:VEVENT
END:VCALENDAR