BEGIN:VCALENDAR
VERSION:2.0
PRODID:https://www.kufer.de/kuferweb / DE
METHOD:PUBLISH
CALSCALE:GREGORIAN
X-WR-TIMEZONE:Europe/Berlin
BEGIN:VTIMEZONE
TZID:Europe/Berlin
X-LIC-LOCATION:Europe/Berlin
BEGIN:DAYLIGHT
TZOFFSETFROM:+0100
TZOFFSETTO:+0200
TZNAME:CEST
DTSTART:19700329T020000
RRULE:FREQ=YEARLY;INTERVAL=1;BYDAY=-1SU;BYMONTH=3
END:DAYLIGHT
BEGIN:STANDARD
TZOFFSETFROM:+0200
TZOFFSETTO:+0100
TZNAME:CET
DTSTART:19701025T030000
RRULE:FREQ=YEARLY;INTERVAL=1;BYDAY=-1SU;BYMONTH=10
END:STANDARD
END:VTIMEZONE
BEGIN:VEVENT
DTSTAMP:20260422T010430
DTSTART;TZID=Europe/Berlin:20260901T180000
DTEND;TZID=Europe/Berlin:20260901T211500
UID:XH33102-20260901T180000@VHSMAINZ
SUMMARY:Schneller tippen am PC - Tastschreiben - NEU ONLINE (XH33102) 
LOCATION:Online, Online
END:VEVENT
BEGIN:VEVENT
DTSTAMP:20260422T010430
DTSTART;TZID=Europe/Berlin:20260908T180000
DTEND;TZID=Europe/Berlin:20260908T211500
UID:XH33102-20260908T180000@VHSMAINZ
SUMMARY:Schneller tippen am PC - Tastschreiben - NEU ONLINE (XH33102) 
LOCATION:Online, Online
END:VEVENT
BEGIN:VEVENT
DTSTAMP:20260422T010430
DTSTART;TZID=Europe/Berlin:20260915T180000
DTEND;TZID=Europe/Berlin:20260915T211500
UID:XH33102-20260915T180000@VHSMAINZ
SUMMARY:Schneller tippen am PC - Tastschreiben - NEU ONLINE (XH33102) 
LOCATION:Online, Online
END:VEVENT
END:VCALENDAR